{
 "currentVersion": 10.61,
 "serviceDescription": "No Basemap",
 "name": "Imagery/NoBasemap",
 "description": "No Basemap",
 "extent": {
  "xmin": -1.0062945199506726E7,
  "ymin": 4153092.6349531515,
  "xmax": -9966532.746870432,
  "ymax": 4227883.956880467,
  "spatialReference": {
   "wkid": 102100,
   "latestWkid": 3857
  }
 },
 "initialExtent": {
  "xmin": -1.0062945199506726E7,
  "ymin": 4153092.6349531515,
  "xmax": -9966532.746870432,
  "ymax": 4227883.956880467,
  "spatialReference": {
   "wkid": 102100,
   "latestWkid": 3857
  }
 },
 "fullExtent": {
  "xmin": -1.0062945199506726E7,
  "ymin": 4153092.6349531515,
  "xmax": -9966532.746870432,
  "ymax": 4227883.956880467,
  "spatialReference": {
   "wkid": 102100,
   "latestWkid": 3857
  }
 },
 "pixelSizeX": 26.78123684341502,
 "pixelSizeY": 31.163050803048147,
 "bandCount": 3,
 "pixelType": "U8",
 "minPixelSize": 0,
 "maxPixelSize": 0,
 "copyrightText": "ReGIS Shelby County Government",
 "serviceDataType": "esriImageServiceDataTypeRGB",
 "minValues": [
  255,
  255,
  255
 ],
 "maxValues": [
  255,
  255,
  255
 ],
 "meanValues": [
  255,
  255,
  255
 ],
 "stdvValues": [
  0,
  0,
  0
 ],
 "objectIdField": "",
 "fields": [],
 "capabilities": "Image,Metadata,Mensuration",
 "defaultMosaicMethod": "Center",
 "allowedMosaicMethods": "",
 "sortField": "",
 "sortValue": null,
 "mosaicOperator": "First",
 "defaultCompressionQuality": 75,
 "defaultResamplingMethod": "Bilinear",
 "maxImageHeight": 4100,
 "maxImageWidth": 15000,
 "allowRasterFunction": true,
 "rasterFunctionInfos": [
  {
   "name": "None",
   "description": "",
   "help": ""
  }
 ],
 "rasterTypeInfos": [
  {
   "name": "Raster Dataset",
   "description": "Supports all ArcGIS Raster Datasets",
   "help": ""
  }
 ],
 "mensurationCapabilities": "Basic",
 "hasHistograms": true,
 "hasColormap": false,
 "hasRasterAttributeTable": false,
 "minScale": 0,
 "maxScale": 0,
 "exportTilesAllowed": false,
 "hasMultidimensions": false,
 "supportsStatistics": false,
 "supportsAdvancedQueries": false,
 "editFieldsInfo": null,
 "ownershipBasedAccessControlForRasters": null,
 "allowComputeTiePoints": false,
 "useStandardizedQueries": true,
 "advancedQueryCapabilities": {
  "useStandardizedQueries": true,
  "supportsStatistics": false,
  "supportsOrderBy": false,
  "supportsDistinct": false,
  "supportsPagination": false
 },
 "spatialReference": {
  "wkid": 102100,
  "latestWkid": 3857
 }
}
