View In:
  ArcGIS JavaScript
  ArcGIS Online Map Viewer
    ArcGIS Earth
  ArcMap
  ArcGIS Explorer
View Footprint In:
  ArcGIS Online Map Viewer
Service Description:  Planimetrics Contours 
Map Name:  Layers 
Legend
All Layers and Tables
Dynamic Legend
Dynamic All Layers
Layers: 
Description:   
Copyright Text:  ReGIS Shelby County Government  
Spatial Reference: 
102100
 (3857)
Single Fused Map Cache:  true
 
Tile Info: 
 
 	- Height: 256
- Width: 256
- DPI: 96
- 
	    Levels of Detail:  24
	       	  - 
	       	    Level ID: 1
		       	  
		       	    [ Start Tile, End Tile ]
		  		- Resolution: 78271.5169639999
- Scale: 2.95828763795777E8
	       	  - 
	       	    Level ID: 2
		       	  
		       	    [ Start Tile, End Tile ]
		  		- Resolution: 39135.7584820001
- Scale: 1.47914381897889E8
	       	  - 
	       	    Level ID: 3
		       	  
		       	    [ Start Tile, End Tile ]
		  		- Resolution: 19567.8792409999
- Scale: 7.3957190948944E7
	       	  - 
	       	    Level ID: 4
		       	  
		       	    [ Start Tile, End Tile ]
		  		- Resolution: 9783.93962049996
- Scale: 3.6978595474472E7
	       	  - 
	       	    Level ID: 5
		       	  
		       	    [ Start Tile, End Tile ]
		  		- Resolution: 4891.96981024998
- Scale: 1.8489297737236E7
- Format: PNG
- Compression Quality: 0.0
- Origin: 
X:  -2.0037508342787E7 
 Y:  2.0037508342787E7
 
- Spatial Reference: 
102100
 (3857)
 
Initial Extent:
  
XMin: -1.0131834661599685E7
YMin: 4176540.3863382237
XMax: -9899318.048200317
YMax: 4272717.71278978
	Spatial Reference: 
102100
Full Extent:
  
XMin: -1.00534083452E7
YMin: 4162831.9180999994
XMax: -9977744.3646
YMax: 4219745.285099998
	Spatial Reference: 
102100
Units: esriMeters 
Supported Image Format Types:  PNG32,PNG24,PNG,JPG,DIB,TIFF,EMF,PS,PDF,GIF,SVG,SVGZ,BMP
Document Info: 
  
Title: 
Author: 
Comments: Planimetrics Contours
Subject: Planimetrics Contours
Category: 
Keywords: Planimetrics Contours
AntialiasingMode: None
TextAntialiasingMode: Force
Supports Dynamic Layers: true
MaxRecordCount:  1000
MaxImageHeight:  4096
MaxImageWidth:  4096
Supported Query Formats:  JSON, AMF, geoJSON
Min Scale:  577790.554289
Max Scale:  2256.994353
Supports Datum Transformation:  true
Child Resources:
  
Info
    Dynamic Layer
Supported Operations:
  
Export Map
  Identify
  QueryDomains
  Find
  Return Updates
  Generate KML