View In:
  ArcGIS JavaScript
  ArcGIS Online Map Viewer
    ArcGIS Earth
  ArcMap
View Footprint In:
  ArcGIS Online Map Viewer
Service Description:  USGS topo 
Name:  Imagery/USGSTopo 
Description:  USGS topo 
Single Fused Map Cache:  true
 
Tile Info: 
 
  - Height: 256
- Width: 256
- DPI: 96
- 
      Levels of Detail:  19
            - 
              Level ID: 1
              
                [ Start Tile, End Tile ]
          - Resolution: 78271.5169639999
- Scale: 2.95828763795777E8
            - 
              Level ID: 2
              
                [ Start Tile, End Tile ]
          - Resolution: 39135.7584820001
- Scale: 1.47914381897889E8
            - 
              Level ID: 3
              
                [ Start Tile, End Tile ]
          - Resolution: 19567.8792409999
- Scale: 7.3957190948944E7
            - 
              Level ID: 4
              
                [ Start Tile, End Tile ]
          - Resolution: 9783.93962049996
- Scale: 3.6978595474472E7
            - 
              Level ID: 5
              
                [ Start Tile, End Tile ]
          - Resolution: 4891.96981024998
- Scale: 1.8489297737236E7
- Format: MIXED
- Compression Quality: 75.0
- LERC Error: NaN
- Origin: 
X:  -2.0037508342787E7 
 Y:  2.0037508342787E7
 
- Spatial Reference: 
102100
 (3857)
 
Extent:
  
XMin: -1.0063383839914829E7
YMin: 4144412.685619487
XMax: -9974790.338298745
YMax: 4234134.230567215
	Spatial Reference: 
102100
 (3857)
Initial Extent:
  
XMin: -1.0063383839914829E7
YMin: 4144412.685619487
XMax: -9974790.338298745
YMax: 4234134.230567215
	Spatial Reference: 
102100
 (3857)
Full Extent:
  
XMin: -1.0063383839914829E7
YMin: 4144412.685619487
XMax: -9974790.338298745
YMax: 4234134.230567215
	Spatial Reference: 
102100
 (3857)
Pixel Size X: 0.5971642835598124 
Pixel Size Y:  0.5971642835598155 
Band Count: 3
Pixel Type: U8
RasterFunction Infos:  {"rasterFunctionInfos": [{
 "name": "None",
 "description": "",
 "help": ""
}]} 
Mensuration Capabilities: Basic
Has Histograms:  false
Has Colormap:  false
Has Multi Dimensions :  false
Rendering Rule: 
Min Scale:  -1
Max Scale:  -1
Copyright Text:  ReGIS Shelby County Government 
Service Data Type:  esriImageServiceDataTypeRGB 
Min Values:  N/A 
Max Values:  N/A 
Mean Values:  N/A 
Standard Deviation Values:  N/A 
Object ID Field:   
Fields: 
  None
  
Default Mosaic Method:  Center 
Allowed Mosaic Methods:   
SortField:   
SortValue:  null 
Mosaic Operator:  First 
Default Compression Quality:  75 
Default Resampling Method:  Bilinear 
Max Record Count:  null 
Max Image Height:  4100 
Max Image Width:  15000 
Max Download Image Count:  null 
Max Mosaic Image Count:  null 
Allow Raster Function:  true 
Allow Compute TiePoints:  false 
Supports Statistics:  false 
Supports Advanced Queries:  false 
Use StandardizedQueries:  true 
Raster Type Infos: 
    
Name: Raster Dataset
Description: Supports all ArcGIS Raster Datasets
Help: 
  
Has Raster Attribute Table: false 
Edit Fields Info:  null 
Ownership Based AccessControl For Rasters:  null 
Child Resources:
  
Info
  Key Properties
  Legend
  MultiDimensionalInfo
  rasterFunctionInfos
Supported Operations:
  
Export Image
  Identify
    Measure
  
  Compute Histograms
  Compute Statistics Histograms
  Get Samples
  Compute Class Statistics
  Query Boundary