View In:
  ArcGIS JavaScript
  ArcGIS Online Map Viewer
    ArcGIS Earth
  ArcMap
View Footprint In:
  ArcGIS Online Map Viewer
Service Description:  No Basemap 
Name:  Imagery/NoBasemap 
Description:  No Basemap 
Single Fused Map Cache:  false
Extent: 
  
XMin: -1.0062945199506726E7
YMin: 4153092.6349531515
XMax: -9966532.746870432
YMax: 4227883.956880467
	Spatial Reference: 
102100
 (3857)
Initial Extent:
  
XMin: -1.0062945199506726E7
YMin: 4153092.6349531515
XMax: -9966532.746870432
YMax: 4227883.956880467
	Spatial Reference: 
102100
 (3857)
Full Extent:
  
XMin: -1.0062945199506726E7
YMin: 4153092.6349531515
XMax: -9966532.746870432
YMax: 4227883.956880467
	Spatial Reference: 
102100
 (3857)
Pixel Size X: 26.78123684341502 
Pixel Size Y:  31.163050803048147 
Band Count: 3
Pixel Type: U8
RasterFunction Infos:  {"rasterFunctionInfos": [{
 "name": "None",
 "description": "",
 "help": ""
}]} 
Mensuration Capabilities: Basic
Has Histograms:  true
Has Colormap:  false
Has Multi Dimensions :  false
Rendering Rule: 
Min Scale:  0
Max Scale:  0
Copyright Text:  ReGIS Shelby County Government 
Service Data Type:  esriImageServiceDataTypeRGB 
Min Values:  255, 255, 255 
Max Values:  255, 255, 255 
Mean Values:  255, 255, 255 
Standard Deviation Values:  0, 0, 0 
Object ID Field:   
Fields: 
  None
  
Default Mosaic Method:  Center 
Allowed Mosaic Methods:   
SortField:   
SortValue:  null 
Mosaic Operator:  First 
Default Compression Quality:  75 
Default Resampling Method:  Bilinear 
Max Record Count:  null 
Max Image Height:  4100 
Max Image Width:  15000 
Max Download Image Count:  null 
Max Mosaic Image Count:  null 
Allow Raster Function:  true 
Allow Compute TiePoints:  false 
Supports Statistics:  false 
Supports Advanced Queries:  false 
Use StandardizedQueries:  true 
Raster Type Infos: 
    
Name: Raster Dataset
Description: Supports all ArcGIS Raster Datasets
Help: 
  
Has Raster Attribute Table: false 
Edit Fields Info:  null 
Ownership Based AccessControl For Rasters:  null 
Child Resources:
  
Info
  Histograms
  
  Key Properties
  Legend
  MultiDimensionalInfo
  rasterFunctionInfos
Supported Operations:
  
Export Image
  Identify
    Measure
  
  Compute Histograms
  Compute Statistics Histograms
  Get Samples
  Compute Class Statistics
  Query Boundary